BEGIN:VCALENDAR
VERSION:2.0
PRODID:-//Long Island Cross Country Ski Club - ECPv5.2.1//NONSGML v1.0//EN
CALSCALE:GREGORIAN
METHOD:PUBLISH
X-WR-CALNAME:Long Island Cross Country Ski Club
X-ORIGINAL-URL:https://liccsc.org
X-WR-CALDESC:Events for Long Island Cross Country Ski Club
BEGIN:VTIMEZONE
TZID:America/New_York
BEGIN:DAYLIGHT
TZOFFSETFROM:-0500
TZOFFSETTO:-0400
TZNAME:EDT
DTSTART:20270314T070000
END:DAYLIGHT
BEGIN:STANDARD
TZOFFSETFROM:-0400
TZOFFSETTO:-0500
TZNAME:EST
DTSTART:20271107T060000
END:STANDARD
END:VTIMEZONE
BEGIN:VEVENT
DTSTART;VALUE=DATE:20270221
DTEND;VALUE=DATE:20270227
DTSTAMP:20260423T105303
CREATED:20260307T151049Z
LAST-MODIFIED:20260307T151049Z
UID:3746-1803168000-1803686399@liccsc.org
SUMMARY:Roadscholar Cross-Country Skiing the Adirondacks 2027
DESCRIPTION:$100 deposit. Rest is due by Dec 23rd. \nPrice varies $2150 – $3000 depending if you are sharing a room or are requesting a room in the main lodge. All meals are included. \n60 day cancellation policy. \nContact Judy Kislik for questions (516) 965-8353.
URL:https://liccsc.org/event/roadscholar-cross-country-skiing-the-adirondacks-2027/
END:VEVENT
END:VCALENDAR